Workbook

Sheet Summary
A1: ZENNOR PARISH COUNCIL
A2: SUMMARY RECEIPTS & PAYMENTS - YEAR ENDING 31ST MARCH 2022
B4: 2021/22 | D4: 2022/23
A6: RECEIPTS
A7: Precept | B7: 4850 | D7: =Receipts!C5 -> 5500
A8: CC CTS Grant | B8: 61.11 | D8: =Receipts!D5 -> 37
A9: LMP/SWCP Grants | B9: 2864.1 | D9: =Receipts!E5 -> 3133.19
A10: Community Trust Fund grant | B10: 0 | D10: =Receipts!F5 -> 0
A11: Donations | B11: 500 | D11: =Receipts!G5 -> 0
A12: VAT Reclaim | B12: 567.25 | D12: =Receipts!H5 -> 431.88
A13: TOTAL RECEIPTS | B13: =SUM(B7:B12) -> 8842.46 | D13: =SUM(D7:D12) -> 9102.07
A15: PAYMENTS
A16: Clerk's Salary inc PAYE | B16: 3479.85 | D16: =Payments!C5 -> 4409.75
A17: Mileage | B17: 0 | D17: =Payments!D5 -> 0
A18: Working from Home | B18: 96 | D18: =Payments!E5 -> 96
A19: General Administration | B19: 79.9 | D19: =Payments!F5 -> 163.85
A20: IT Equipment | B20: 0 | D20: =Payments!G5 -> 241.24
A21: Hall Rental / Zoom | B21: 200 | D21: =Payments!H5 -> 220
A22: Insurance | B22: 218 | D22: =Payments!I5 -> 370.38
A23: Subs & Fees | B23: 259.78 | D23: =Payments!J5 -> 219.2
A24: Training | B24: 120 | D24: =Payments!K5 -> 60
A25: Website Costs | B25: 615 | D25: =Payments!L5+Payments!M5 -> 310
A26: Election Recharges | B26: 255 | D26: 0
A27: Path Maintenance | B27: 2752 | D27: =Payments!N5 -> 2824.7
A28: General Maintenance | B28: 0 | D28: =Payments!O5 -> 110
A29: Defibrillator Maintenance | B29: 0 | D29: =Payments!P5 -> 176.9
A30: Christmas Tree | B30: 185 | D30: =Payments!Q5 -> 185
A31: Noticeboard | B31: 250 | D31: 0
A32: Community Projects | B32: 0 | D32: =Payments!R5 -> 0
A33: Jubilee | B33: 0 | D33: =Payments!S5 -> 199.98
A34: Pentreath Painting | B34: 350.17 | D34: 0
A35: VAT Input | B35: 409.44 | D35: =Payments!T5 -> 431.88
A36: TOTAL PAYMENTS | B36: =SUM(B16:B35) -> 9270.14 | D36: =SUM(D16:D35) -> 10018.88
A39: RECEIPTS AND PAYMENTS SUMMARY
A41: General Account | D41: Total b/d from 21/22 | F41: 6061.29
A42: Cash Balance 31/03/23 | B42: ='Bank Reconciliations'!Y17 -> 5144.48 | D42: Receipts in | F42: =Receipts!I5 -> 9102.07
A43: Less Cheques not presented: | D43: Payments out | F43: =Payments!U5 -> 10018.88
A44: TOTAL | B44: =B42-B43 -> 5144.48 | D44: Total c/d to 2022/23 | F44: =SUM(F41+F42-F43) -> 5144.48 | H44: YEAR END CHECK | J44: =IF(B44=F44,"Reconciled","Error") -> Reconciled
A47: Signed: ________________________ | D47: Signed: ______________________
A48: Chairman | D48: RFO
...

Sheet Receipts
A1: ZENNOR PARISH COUNCIL
A2: RECEIPTS - YEAR ENDING 31ST MARCH 2023
A4: DATE | B4: DESCRIPTION | C4: PRECEPT | D4: CTS GRANT | E4: LMP/SWCP | F4: GRANTS | G4: DONATIONS | H4: VAT RECLAIM | I4: TOTALS
B5: TOTALS | C5: =SUM(C6:C11) -> 5500 | D5: =SUM(D6:D11) -> 37 | E5: =SUM(E6:E11) -> 3133.19 | F5: =SUM(F6:F11) -> 0 | G5: =SUM(G6:G11) -> 0 | H5: =SUM(H6:H11) -> 431.88 | I5: =SUM(I6:I11) -> 9102.07
A6: 44652 | B6: Precept 1st half | C6: 2750 | I6: =SUM(C6:H6) -> 2750
A7: 44652 | B7: CC CTS Grant | D7: 18.5 | I7: =SUM(C7:H7) -> 18.5
A8: 44445 | B8: Precept 2nd Half | C8: 2750 | I8: =SUM(C8:H8) -> 2750
A9: 44445 | B9: CC CTS Grant | D9: 18.5 | I9: =SUM(C9:H9) -> 18.5
A10: 44931 | B10: LMP & SWP Grants | E10: 3133.19 | I10: =SUM(C10:H10) -> 3133.19
A11: 44651 | B11: VAT reclaim 01/03/22-28/02/23 | H11: 431.88 | I11: =SUM(C11:H11) -> 431.88
A14: Signed: ____________________________ | D14: Signed: ____________________________
A15: Chairman | D15: RFO
A17: Dated: _____________________________ | D17: Dated: _____________________________

Sheet Payments
A1: ZENNOR PARISH COUNCIL
A2: PAYMENTS - YEAR ENDING 31ST MARCH 2023
A4: DATE | B4: DESCRIPTION | C4: STAFF | D4: MILEAGE | E4: WFH | F4: GENERAL ADMIN | G4: IT EQUIPMENT | H4: HALL RENTAL / ZOOM | I4: INSURANCE | J4: SUBS & FEES | K4: TRAINING | L4: WEBSITE HOSTING | M4: DOMAIN RENEWAL | N4: PATH MAINTENANCE | O4: GENERAL MAINTENANCE | P4: DEFIB MAINTENANCE | Q4: XMAS TREE | R4: COMMUNITY PROJECTS | S4: JUBILEE | T4: VAT | U4: TOTALS | W4: VAT NO
B5: TOTALS | C5: =SUM(C6:C53) -> 4409.75 | D5: =SUM(D6:D53) -> 0 | E5: =SUM(E6:E53) -> 96 | F5: =SUM(F6:F53) -> 163.85 | G5: =SUM(G6:G53) -> 241.24 | H5: =SUM(H6:H53) -> 220 | I5: =SUM(I6:I53) -> 370.38 | J5: =SUM(J6:J53) -> 219.2 | ... U5: =SUM(U6:U53) -> 10018.88
A6: 44294 | B6: Google | F6: 4.6 | U6: =SUM(C6:T6) -> 4.6
A7: 44287 | B7: CALC Subscription | J7: 144.2 | T7: 26.37 | U7: =SUM(C7:T7) -> 170.57 | W7: 935 1609 24
A8: 44326 | B8: Google | F8: 4.6 | U8: =SUM(C8:T8) -> 4.6
A9: 44356 | B9: Google | F9: 4.6 | U9: =SUM(C9:T9) -> 4.6
A10: 44726 | B10: Clerk's Salary | C10: 732.75 | U10: =SUM(C10:T10) -> 732.75
A11: 44726 | B11: HMRC | C11: 183 | U11: =SUM(C11:T11) -> 183
A12: 44726 | B12: Clerk's Expenses | E12: 24 | U12: =SUM(C12:T12) -> 24
A13: 44726 | B13: Domain renewal | M13: 85 | T13: 17 | U13: =SUM(C13:T13) -> 102 | W13: 718 4073 36
A14: 44726 | B14: Jubilee items - inc mugs | S14: 199.98 | U14: =SUM(C14:T14) -> 199.98
A15: 44744 | B15: ICO Data Protection Fee | J15: 35 | U15: =SUM(C15:T15) -> 35
A16: 44385 | B16: Google | F16: 4.6 | U16: =SUM(C16:T16) -> 4.6
A17: 44754 | B17: Insurance | I17: 370.38 | U17: =SUM(C17:T17) -> 370.38
A18: 44414 | B18: Google | F18: 4.6 | U18: =SUM(C18:T18) -> 4.6
A19: 44783 | B19: LMP First cut | N19: 715 | T19: 143 | U19: =SUM(C19:T19) -> 858
A20: 44448 | B20: Google | F20: 4.59 | U20: =SUM(C20:T20) -> 4.59
A21: 44817 | B21: Clerk's Salary | C21: 732.55 | U21: =SUM(C21:T21) -> 732.55
A22: 44817 | B22: HMRC | C22: 183.2 | U22: =SUM(C22:T22) -> 183.2
A23: 44817 | B23: Painting fingerpost & pump | O23: 110 | U23: =SUM(C23:T23) -> 110
A24: 44830 | B24: Clerk's Expenses | E24: 24 | F24: 24.96 | T24: 4.99 | U24: =SUM(C24:T24) -> 53.95 | W24: 994 406 094
A25: 44841 | B25: Google | F25: 4.6 | U25: =SUM(C25:T25) -> 4.6
A26: 44508 | B26: Google | F26: 4.6 | U26: =SUM(C26:T26) -> 4.6
A27: 44873 | B27: Coast path cutting | N27: 1394.7 | U27: =SUM(C27:T27) -> 1394.7
A28: 44873 | B28: LMP Second cut | N28: 715 | T28: 143 | U28: =SUM(C28:T28) -> 858 | W28: 382 6007 03
A29: 44873 | B29: CALC Training | K29: 60 | T29: 12 | U29: =SUM(C29:T29) -> 72 | W29: 935 1609 24
A30: 44889 | B30: Christmas Tree | Q30: 185 | U30: =SUM(C30:T30) -> 185
A31: 44538 | B31: Google | F31: 4.6 | U31: =SUM(C31:T31) -> 4.6
A32: 44908 | B32: Clerk's Salary | C32: 912.55 | U32: =SUM(C32:T32) -> 912.55
A33: 44908 | B33: HMRC | C33: 228.2 | U33: =SUM(C33:T33) -> 228.2
A34: 44908 | B34: Clerk's Expenses | E34: 24 | F34: 13.7 | T34: 1.89 | U34: =SUM(C34:T34) -> 39.59 | W34: 786 6380 77
A35: 44908 | B35: Humphry Davy School | F35: 70 | U35: =SUM(C35:T35) -> 70
A36: 44570 | B36: Google | F36: 4.6 | U36: =SUM(C36:T36) -> 4.6
A37: 44943 | B37: Clerk's Salary | C37: 264.25 | U37: =SUM(C37:T37) -> 264.25
A38: 44943 | B38: HMRC | C38: 66 | U38: =SUM(C38:T38) -> 66
A39: 44943 | B39: Clerk's Expenses | E39: 8 | U39: =SUM(C39:T39) -> 8
A40: 44600 | B40: Google | F40: 4.6 | U40: =SUM(C40:T40) -> 4.6
A41: 44971 | B41: IT Equipment | G41: =289.49-T41 -> 241.24 | T41: =37.42+10.83 -> 48.25 | U41: =SUM(C41:T41) -> 289.49
...

Sheet Google
A1: Google | C1: =SUM(C4:C15) -> 55.2
A3: Period | B3: Month | C3: Charge | D3: Paid date
A4: 1 | B4: 44652 | C4: 4.6
A5: 2 | B5: 44682 | C5: 4.6
A6: 3 | B6: 44713 | C6: 4.6
A7: 4 | B7: 44743 | C7: 4.6
A8: 5 | B8: 44774 | C8: 4.6
A9: 6 | B9: 44805 | C9: 4.6
A10: 7 | B10: 44835 | C10: 4.6
A11: 8 | B11: 44866 | C11: 4.6
A12: 9 | B12: 44896 | C12: 4.6
A13: 10 | B13: 44927 | C13: 4.6
A14: 11 | B14: 44958 | C14: 4.6
A15: 12 | B15: 44986 | C15: 4.6

Sheet Room rent
A1: Room rent | D1: =SUM(D4:D16) -> 220
A3: Meeting date | B3: Venue | C3: Meeting type | D3: Charge | E3: Paid date | F3: Notes
A4: 44652 | B4: Zennor Village Hall | C4: Ordinary PC | D4: 20
A5: 44691 | B5: Zennor Village Hall | C5: Annual Parish, Annual PC and Ordinary PC | D5: 20
A6: 44726 | B6: Zennor Village Hall | C6: Ordinary PC | D6: 20
A7: 44754 | B7: Zennor Village Hall | C7: Ordinary PC | D7: 20
A8: n/a | B8: n/a | C8: n/a | D8: n/a | E8: n/a | F8: No meeting held in August
A9: 44830 | B9: Zennor Village Hall | C9: Ordinary PC | D9: 20
A10: n/a | B10: n/a | C10: n/a | D10: n/a | E10: n/a | F10: No meeting in Oct due to change of dates of Sep meeting
A11: 44873 | B11: Zennor Village Hall | C11: Ordinary PC | D11: 20
A12: 44908 | B12: Zennor Village Hall | C12: Ordinary PC | D12: 20
A13: 44932 | B13: Zennor Village Hall | C13: Staffing Committee | D13: 20
A14: 44943 | B14: Zennor Village Hall | C14: Ordinary PC | D14: 20
A15: 44971 | B15: Zennor Village Hall | C15: Ordinary PC | D15: 20
A16: 44999 | B16: Zennor Village Hall | C16: Ordinary PC | D16: 20

Sheet Clerk Salary
A1: Clerk | B1: Cassandra Crisp
A2: Rate | B2: SCP 13
A3: Range | B3: SCP 13-17
A4: Hours per month | B4: 25
A5: Hourly rate | B5: 12.97
A6: Start date | B6: 44958
A7: Annual salary | B7: 3891
A8: Monthly salary | B8: =B4*B5 -> 324.25

Sheet Budget 22-23
A1: ZENNOR PARISH COUNCIL
A2: BUDGET 2022/23
D4: YEAR TO DATE 2022/23 | G4: 2023/24 | H4: 2024/25 | J4: COMMENTARY
A5: RECEIPTS | C5: Budget | D5: To Date | E5: Revised Budget 17/01/23 | G5: Forecast | H5: Forecast | J5: All budgeting is exclusive of VAT
A6: RECEIPTS
A7: Precept | C7: 5500 | D7: =Receipts!C5 -> 5500 | E7: 5500 | G7: 6000 | H7: 6000 | J7: This will be the balancing figure of estimated payments less estimated receipts, taking into account any use of reserves
A8: CC CTS Grant | C8: 37 | D8: =Receipts!D5 -> 37 | E8: 37 | G8: 0 | H8: 0 | J8: This is due to reduce by 50% in 2022/23 and will be totally phased out in 2023/24
A9: LMP / SWCP Grants | C9: 2903.04 | D9: =Receipts!E5 -> 3133.19 | E9: 3133.19 | G9: 2961.1 | H9: 3023.2 | J9: Budgeted for 2% increase as advised by CC
A10: Community Chest Grant | C10: 500 | D10: =Receipts!F5 -> 0 | E10: 0 | G10: 0 | H10: 500 | J10: This relates directly to the Community Projects line in Payments - if no grant is received no expenditure will be made
A11: Donations | C11: 0 | D11: =Receipts!G5 -> 0 | E11: 0 | G11: 0 | H11: 0 | J11: This relates directly to the Community Projects line in Payments - if no grant is received no expenditure will be made
A12: VAT Reclaim | C12: 0 | D12: =Receipts!H5 -> 431.88 | E12: 0 | G12: 0 | H12: 0 | J12: This relates directly to the Community Projects line in Payments - if no grant is received no expenditure will be made
A13: TOTAL RECEIPTS | C13: =SUM(C5:C12) -> 8940.04 | D13: =SUM(D5:D12) -> 9102.07 | E13: =SUM(E5:E12) -> 8670.19 | G13: =SUM(G5:G12) -> 8961.1 | H13: =SUM(H5:H12) -> 9523.2
A14: Use of EM Reserves | D14: 109.74 | E14: 109.74 | F14: 109.74 | G14: 0 | H14: 0 | J14: Amount used from or added to General Reserves
A15: Use of Reserves | C15: =C39-C14-C13 -> -74.78 | D15: 0 | E15: =E39-E14-E13 -> 807.07 | G15: =G39-G13 -> -14.1 | H15: =H39-H13 -> -242.2 | J15: Amount used from or added to General Reserves
A16: TOTAL INC RESERVES | C16: =SUM(C13:C15) -> 8865.26 | D16: =SUM(D13:D15) -> 9211.81 | E16: =SUM(E13:E15) -> 9587 | G16: =SUM(G13:G15) -> 8947 | H16: =SUM(H13:H15) -> 9281
D18: YEAR TO DATE 2020/21 | G18: 2022/23 | H18: 2023/24 | J18: COMMENTARY
A19: PAYMENTS | C19: Budget | D19: To Date | E19: Revised Budget based on Projected Outcome | G19: Forecast | H19: Forecast | J19: 2% has been added for inflation where relevant
A20: PAYMENTS
A21: Clerk's Salary inc PAYE | C21: 3736.26 | D21: =Payments!C5 -> 4409.75 | E21: 4409.75 | G21: 4180 | H21: 3965 | J21: Salary is based on a potential increase of one point on the SPC scale and a National Pay Award of 2%
A22: Mileage | C22: 50 | D22: =Payments!D5 -> 0 | E22: 0 | G22: 50 | H22: 50 | J22: For training for both Councillors & Clerk
A23: Working From Home | C23: 96 | D23: =Payments!E5 -> 96 | E23: 96 | G23: 96 | H23: 96 | J23: £8 per month allowance
A24: General Administration | C24: 100 | D24: =Payments!F5 -> 163.85 | E24: =D24 -> 163.85 | G24: 110 | H24: 120 | J24: Includes Google £50 & ICO Registration £35
A25: IT Equipment | C25: 0 | D25: =Payments!G5 -> 241.24 | E25: =D25 -> 241.24 | G25: 0 | H25: 0 | J25: Includes Google £50 & ICO Registration £35
A26: Hall Rental / Zoom | C26: 200 | D26: =Payments!H5 -> 220 | E26: =D26 -> 220 | G26: 200 | H26: 200 | J26: Holding meetings whether actual or virtual
A27: Insurance | C27: 230 | D27: =Payments!I5 -> 370.38 | E27: 370.38 | G27: 380 | H27: 250 | J27: Statutory requirement
A28: CALC & SLCC Subs | C28: 225 | D28: =Payments!J5 -> 219.2 | E28: =D28 -> 219.2 | G28: 235 | H28: 250 | J28: Increased in line with previous three years
A29: Training Courses | C29: 100 | D29: =Payments!K5 -> 60 | E29: =D29 -> 60 | G29: 100 | H29: 100 | J29: To include a contribution to CiLCA training for the Clerk
A30: Website Maintenance | C30: 225 | D30: =Payments!L5 -> 225 | E30: 225 | G30: 235 | H30: 250 | J30: Includes both Maintenance & Hosting contract
A31: Website Domain renewal | C31: 75 | D31: =Payments!M5 -> 85 | E31: 85 | G31: 0 | H31: 80 | J31: This is a biennial cost
A32: Path Maintenance | C32: 2903 | D32: =Payments!N5 -> 2824.7 | E32: 2824.7 | G32: 2961 | H32: 3020 | J32: In line with LMP & SWCP funding received
A33: General Maintenance | C33: 100 | D33: =Payments!O5 -> 110 | E33: 110 | G33: 150 | H33: 150 | J33: To include paint for the Finger Post & the Pump
A34: Defibrillator maintenance | C34: 150 | D34: =Payments!P5 -> 176.9 | E34: =D34 -> 176.9 | G34: 50 | H34: 50 | J34: Service costs & replacement pads etc for Tinners defib
A35: Christmas Tree | C35: 175 | D35: =Payments!Q5 -> 185 | E35: 185 | G35: 200 | H35: 200 | J35: Assumed no change to requirements
A36: Community Projects | C36: 500 | D36: =Payments!R5 -> 0 | E36: 0 | G36: 0 | H36: 500 | J36: Wi-fi for the Village Hall - Community Chest grant
A37: Jubilee | D37: =Payments!S5 -> 199.98 | E37: 199.98 | G37: 0 | H37: 0 | J37: Wi-fi for the Village Hall - Community Chest grant
A38: VAT | C38: 0 | D38: =Payments!T5 -> 431.88 | G38: 0 | H38: 0 | J38: Wi-fi for the Village Hall - Community Chest grant
A39: TOTAL PAYMENTS | C39: =SUM(C21:C38) -> 8865.26 | D39: =SUM(D21:D38) -> 10018.88 | E39: =SUM(E21:E38) -> 9587 | G39: =SUM(G21:G38) -> 8947 | H39: =SUM(H21:H38) -> 9281
D41: YEAR TO DATE 2020/21 | G41: 2022/23 | H41: 2023/24 | J41: COMMENTARY
A42: RESERVES | C42: C/F FROM 21/22 | D42: To use | E42: Projected Balance at Year End | G42: Forecast | H42: Forecast
A43: RESERVES
...

Sheet Bank Reconciliations
G1: ZENNOR PARISH COUNCIL
G2: BANK RECONCILIATIONS - YEAR ENDING 31ST MARCH 2022
A5: CASHBOOK | C5: APRIL | E5: MAY | G5: JUNE | I5: JULY | K5: AUG | M5: SEPT | O5: OCT | Q5: NOV | S5: DEC | U5: JAN | W5: FEB | Y5: MAR
A7: Opening Balance | C7: 6061.29 | E7: 6061.29 | G7: 6061.29 | I7: 6061.29 | K7: 6061.29 | M7: 6061.29 | O7: 6061.29 | Q7: 6061.29 | S7: 6061.29 | U7: 6061.29 | W7: 6061.29 | Y7: 6061.29
A9: Receipts | C9: =SUM(Receipts!I6:I7) -> 2768.5 | E9: =SUM(Receipts!I6:I7) -> 2768.5 | G9: =SUM(Receipts!I6:I7) -> 2768.5 | I9: =SUM(Receipts!I6:I7) -> 2768.5 | K9: =SUM(Receipts!I6:I7) -> 2768.5 | M9: =SUM(Receipts!I6:I9) -> 5537 | O9: =SUM(Receipts!I6:I9) -> 5537 | Q9: =SUM(Receipts!I6:I9) -> 5537 | S9: =SUM(Receipts!I6:I9) -> 5537 | U9: =SUM(Receipts!I6:I10) -> 8670.19 | W9: =SUM(Receipts!I6:I10) -> 8670.19 | Y9: =SUM(Receipts!I6:I11) -> 9102.07
A11: Payments | C11: =SUM(Payments!U6:U7) -> 175.17 | E11: =SUM(Payments!U6:U8) -> 179.77 | G11: =SUM(Payments!U6:U15) -> 1461.1 | I11: =SUM(Payments!U6:U17) -> 1836.08 | K11: =SUM(Payments!U6:U19) -> 2698.68 | M11: =SUM(Payments!U6:U24) -> 3782.97 | O11: =SUM(Payments!U6:U25) -> 3787.57 | Q11: =SUM(Payments!U6:U30) -> 6301.87 | S11: =SUM(Payments!U6:U35) -> 7556.81 | U11: =SUM(Payments!U6:U39) -> 7899.66 | W11: =SUM(Payments!U6:U47) -> 9237.03 | Y11: =SUM(Payments!U6:U53) -> 10018.88
A13: Closing Balance | C13: =SUM(C7+C9-C11) -> 8654.62 | E13: =SUM(E7+E9-E11) -> 8650.02 | G13: =SUM(G7+G9-G11) -> 7368.69 | I13: =SUM(I7+I9-I11) -> 6993.71 | K13: =SUM(K7+K9-K11) -> 6131.11 | M13: =SUM(M7+M9-M11) -> 7815.32 | O13: =SUM(O7+O9-O11) -> 7810.72 | Q13: =SUM(Q7+Q9-Q11) -> 5296.42 | S13: =SUM(S7+S9-S11) -> 4041.48 | U13: =SUM(U7+U9-U11) -> 6831.82 | W13: =SUM(W7+W9-W11) -> 5494.45 | Y13: =SUM(Y7+Y9-Y11) -> 5144.48
A15: BANK STATEMENTS
A17: Current Account | C17: 8654.62 | E17: 8650.02 | G17: 7403.69 | I17: 6993.71 | K17: 6131.11 | M17: 7869.27 | O17: 7810.72 | Q17: 5368.42 | S17: 4041.48 | U17: 6831.82 | W17: 5534.45 | Y17: 5144.48
A19: Unpresented payment | G19: 35 | M19: 53.95 | Q19: 72 | W19: 40
A20: R or P made post meeting
C23: =C17-SUM(C19:C21) -> 8654.62 | E23: =E17-SUM(E19:E21) -> 8650.02 | G23: =G17-SUM(G19:G21) -> 7368.69 | I23: =I17-SUM(I19:I21) -> 6993.71 | K23: =K17-SUM(K19:K21) -> 6131.11 | M23: =M17-SUM(M19:M21) -> 7815.32 | O23: =O17-SUM(O19:O21) -> 7810.72 | Q23: =Q17-SUM(Q19:Q21) -> 5296.42 | S23: =S17-SUM(S19:S21) -> 4041.48 | U23: =U17-SUM(U19:U21) -> 6831.82 | W23: =W17-SUM(W19:W21) -> 5494.45 | Y23: =Y17-SUM(Y19:Y21) -> 5144.48
C25: =IF(C13=C23,"Reconciled","Error") -> Reconciled | E25: =IF(E13=E23,"Reconciled","Error") -> Reconciled | G25: =IF(G13=G23,"Reconciled","Error") -> Reconciled | I25: =IF(I13=I23,"Reconciled","Error") -> Reconciled | K25: =IF(K13=K23,"Reconciled","Error") -> Reconciled | M25: =IF(M13=M23,"Reconciled","Error") -> Reconciled | O25: =IF(O13=O23,"Reconciled","Error") -> Reconciled | Q25: =IF(Q13=Q23,"Reconciled","Error") -> Reconciled | S25: =IF(S13=S23,"Reconciled","Error") -> Reconciled | U25: =IF(U13=U23,"Reconciled","Error") -> Reconciled | W25: =IF(W13=W23,"Reconciled","Error") -> Reconciled | Y25: =IF(Y13=Y23,"Reconciled","Error") -> Reconciled

Sheet Account details
A1: Bank account details
A5: Bank | B5: Barclays
A6: Account type | B6: Community Account
A7: Account name | B7: Zennor Parish Council V
A8: Sort code | B8: 20 67 19
A9: Account number | B9: #00999016
A13: Signatories | B13: Molly Banks
B14: Jon Brookes
B15: Sam Nankervis
B16: Cassandra Crisp

Sheet Fixed Assets
A1: ZENNOR PARISH COUNCIL
A2: FIXED ASSETS - YEAR ENDING 31ST MARCH 2023
A4: As 31st March 2023 the following assets were held:
A6: Date added | B6: Item | C6: Value | D6: Location
A7: 42406 | B7: Pentreath Painting & Frame | C7: 806 | D7: Kresen Kernow
A8: 42438 | B8: Projector & Screen | C8: 359.98 | D8: Zennor Village Hall
A9: 44971 | B9: Laptop & Printer (50% of) | C9: 289.49 | D9: Clerk
A10: 43188 | B10: AED | C10: 1138.8 | D10: Gurnards Head
A11: 43188 | B11: Wall Cabinet for AED | C11: 442.8 | D11: Gurnards Head
A12: 43536 | B12: Thermal Imaging Camera | C12: 241.03 | D12: Chair
A13: 43536 | B13: Signage x 3 (dog mess) | C13: 271.95 | D13: Footpaths various
A14: 44145 | B14: Pump | C14: 1 | D14: Pump Lane | E14: * donated - nominal value
A15: 44600 | B15: Giclee Print & Frame | C15: 350.17 | D15: Chair - will be Village Hall
A16: 44635 | B16: Noticeboard | C16: 250 | D16: by the Church
A17: 45013 | B17: Fingerpost | C17: 1000 | D17: Pump Lane
A19: The basis of valuation of these assets is purchase price
B21: Total | C21: =SUM(C7:C17) -> 5151.22
A28: Signed: ____________________ | D28: Signed: ____________________
A29: Chairman | D29: RFO
A31: Dated: _____________________ | D31: Dated: _____________________
